BEGIN:VCALENDAR
VERSION:2.0
PRODID:-//Tukios.com/
BEGIN:VEVENT
UID:98372710-a443-43a9-b393-4cf74c48a374@www.lawrencefh.com
DTSTAMP:20260423T231844Z
DTSTART:20260424T210000Z
DTEND:20260425T010000Z
SUMMARY:Visitation
DESCRIPTION:
URL:https://www.lawrencefh.com/obituaries/kenneth-tso
LOCATION: 4800 N Austin Ave  Chicago IL 60630
GEO:41.9678653;-87.7779474
END:VEVENT
END:VCALENDAR